BEGIN:VCALENDAR
VERSION:2.0
PRODID:-//Ancient World - ECPv6.15.16//NONSGML v1.0//EN
CALSCALE:GREGORIAN
METHOD:PUBLISH
X-WR-CALNAME:Ancient World
X-ORIGINAL-URL:https://ancientworld.princeton.edu
X-WR-CALDESC:Events for Ancient World
REFRESH-INTERVAL;VALUE=DURATION:PT1H
X-Robots-Tag:noindex
X-PUBLISHED-TTL:PT1H
BEGIN:VTIMEZONE
TZID:UTC
BEGIN:STANDARD
TZOFFSETFROM:+0000
TZOFFSETTO:+0000
TZNAME:UTC
DTSTART:20150101T000000
END:STANDARD
END:VTIMEZONE
BEGIN:VEVENT
DTSTART;TZID=UTC:20230323T163000
DTEND;TZID=UTC:20230323T180000
DTSTAMP:20260421T060209
CREATED:20230222T201035Z
LAST-MODIFIED:20230222T201035Z
UID:10000226-1679589000-1679594400@ancientworld.princeton.edu
SUMMARY:On the Edge of the World: Rome’s Fluid Frontier in Northern Britain
DESCRIPTION:Britain was the last region in Western Europe conquered by the Roman Empire. However\, its occupation was never completed: despite several campaigns by Roman armies\, most of the northern territories remained free of direct Roman rule. Over several generations\, the northernmost frontier of the Roman Empire moved back and forth between modern-day northern England and southern Scotland\, creating a fluid borderland of encounters and resistance. This lecture will provide an overview on the interactions between Roman power and indigenous communities\, presenting some results from new research projects that are fundamentally transforming our knowledge of the period between c. AD 70-400. Moreover\, it will reflect on what the evidence from a rather peripheral region of the ancient world can contribute to wider debates on borderlands and the limits of empires\, past and present. \nManuel Fernández-Götz is Abercromby Professor of Archaeology at the University of Edinburgh. His main research interests are Iron Age and Roman societies in Europe\, the archaeology of identities\, and conflict archaeology. He has authored over 200 publications and directed fieldwork projects in Spain\, Germany\, the United Kingdom\, and Croatia. His research has been recognised with the award of the Philip Leverhulme Prize and the Royal Society of Edinburgh’s Thomas Reid Medal. He is currently directing the Leverhulme- funded project ‘Beyond Walls: Reassessing Iron Age and Roman Encounters in Northern Britain’.
URL:https://ancientworld.princeton.edu/event/on-the-edge-of-the-world-romes-fluid-frontier-in-northern-britain/
LOCATION:010 East Pyne\, 010 East Pyne
ATTACH;FMTTYPE=image/jpeg:https://ancientworld.princeton.edu/wp-content/uploads/sites/4/2023/02/Burnswark-Hillfort-and-Roman-Camp-photo-J.-Reid.jpg
GEO:33.0331434;-85.1424571
X-APPLE-STRUCTURED-LOCATION;VALUE=URI;X-ADDRESS=010 East Pyne 010 East Pyne;X-APPLE-RADIUS=500;X-TITLE=010 East Pyne:geo:-85.1424571,33.0331434
END:VEVENT
BEGIN:VEVENT
DTSTART;TZID=UTC:20161116T163000
DTEND;TZID=UTC:20161116T163000
DTSTAMP:20260421T060209
CREATED:20160922T231731Z
LAST-MODIFIED:20161024T010241Z
UID:10000136-1479313800-1479313800@ancientworld.princeton.edu
SUMMARY:Roman Imperial Change as Conversion Narrative
DESCRIPTION:Professor Emma Dench\, Magie Lecturer\, McLean Professor of Ancient and Modern History and of the Classics\, Harvard University
URL:https://ancientworld.princeton.edu/event/roman-imperial-change-as-conversion-narrative/
LOCATION:010 East Pyne\, 010 East Pyne
ATTACH;FMTTYPE=image/jpeg:https://ancientworld.princeton.edu/wp-content/uploads/sites/4/2016/09/p49_001_.jpg
GEO:33.0331434;-85.1424571
X-APPLE-STRUCTURED-LOCATION;VALUE=URI;X-ADDRESS=010 East Pyne 010 East Pyne;X-APPLE-RADIUS=500;X-TITLE=010 East Pyne:geo:-85.1424571,33.0331434
END:VEVENT
END:VCALENDAR